BEGIN:VCALENDAR
VERSION:2.0
PRODID:-//Borovany//NONSGML v1.0//CS
BEGIN:VEVENT
DTSTART:20260702T200000
DTEND:20260702T200000
SUMMARY:Ondřej G. Brzobohatý a saxofonista Matouš Kobylka
DESCRIPTION:Pořadatel: město Borovany
LOCATION:Letní scéna Kláštera Borovany
END:VEVENT
END:VCALENDAR