BEGIN:VCALENDAR
VERSION:2.0
PRODID:-//Borovany//NONSGML v1.0//CS
BEGIN:VEVENT
DTSTART:20260806T200000
DTEND:20260806T200000
SUMMARY:Žalman & spol. 
DESCRIPTION:Pořadatel: město Borovany
LOCATION:Letní scéna Kláštera Borovany
END:VEVENT
END:VCALENDAR