BEGIN:VCALENDAR
VERSION:2.0
PRODID:-//Borovany//NONSGML v1.0//CS
BEGIN:VEVENT
DTSTART:20260830T100000
DTEND:20260830T100000
SUMMARY:Karol a Kvído
DESCRIPTION:Pořadatel: město Borovany
LOCATION:Letní scéna Kláštera Borovany
END:VEVENT
END:VCALENDAR