BEGIN:VCALENDAR
VERSION:2.0
PRODID:-//Borovany//NONSGML v1.0//CS
BEGIN:VEVENT
DTSTART:20260820T200000
DTEND:20260820T200000
SUMMARY:Martina Pártlová s kapelou
DESCRIPTION:Pořadatel: město Borovany
LOCATION:Letní scéna Kláštera Borovany
END:VEVENT
END:VCALENDAR