BEGIN:VCALENDAR
VERSION:2.0
PRODID:-//Borovany//NONSGML v1.0//CS
BEGIN:VEVENT
DTSTART:20260423T180000
DTEND:20260423T180000
SUMMARY:Chansonigue
DESCRIPTION:Pořadatel: Město Borovany
LOCATION:Divadelní klub Borovany
END:VEVENT
END:VCALENDAR