BEGIN:VCALENDAR
VERSION:2.0
PRODID:-//Borovany//NONSGML v1.0//CS
BEGIN:VEVENT
DTSTART:20260501T000000
DTEND:20260729T000000
SUMMARY:České korunovační klenoty na dosah
DESCRIPTION:Pořadatel: město Borovany
LOCATION:Klášter Borovany
END:VEVENT
END:VCALENDAR