BEGIN:VCALENDAR
VERSION:2.0
PRODID:-//Borovany//NONSGML v1.0//CS
BEGIN:VEVENT
DTSTART:20260517T180000
DTEND:20260517T180000
SUMMARY:Ozvěny filmových melodií
DESCRIPTION:Pořadatel: město Borovany
LOCATION:Letní scéna Kláštera Borovany
END:VEVENT
END:VCALENDAR