BEGIN:VCALENDAR
VERSION:2.0
PRODID:-//Borovany//NONSGML v1.0//CS
BEGIN:VEVENT
DTSTART:20260517T140000
DTEND:20260517T140000
SUMMARY:Den otevřených vrat Kláštera Borovany
DESCRIPTION:Pořadatel: město Borovany
LOCATION:Klášter Borovany
END:VEVENT
END:VCALENDAR