BEGIN:VCALENDAR
VERSION:2.0
PRODID:-//Borovany//NONSGML v1.0//CS
BEGIN:VEVENT
DTSTART:20260509T090000
DTEND:20260509T090000
SUMMARY:Ameriky na Safari
DESCRIPTION:Pořadatel: Safari resort
LOCATION:Hluboká u Borovan - Safari resort
END:VEVENT
END:VCALENDAR