BEGIN:VCALENDAR
VERSION:2.0
PRODID:-//Borovany//NONSGML v1.0//CS
BEGIN:VEVENT
DTSTART:20260530T140000
DTEND:20260530T140000
SUMMARY:Dětský sportovní den
DESCRIPTION:Pořadatel: TJ Calofrig Borovany
LOCATION:TJ Calfrig Borovany (fotbalové hřiště a okolí)
END:VEVENT
END:VCALENDAR