BEGIN:VCALENDAR
VERSION:2.0
PRODID:-//Borovany//NONSGML v1.0//CS
BEGIN:VEVENT
DTSTART:20260513T190000
DTEND:20260513T190000
SUMMARY:Miroslav Donutil na kus řeči
DESCRIPTION:Pořadatel:  TMG art production s.r.o.
LOCATION:Kulturní dům Borovany
END:VEVENT
END:VCALENDAR