BEGIN:VCALENDAR
VERSION:2.0
PRODID:-//Borovany//NONSGML v1.0//CS
BEGIN:VEVENT
DTSTART:20260328T090000
DTEND:20260517T160000
SUMMARY:Doteky jara v květinové a bylinkové zahradě
DESCRIPTION:Pořadatel: město Borovany
LOCATION:Výstavní síň Kláštera Borovany
END:VEVENT
END:VCALENDAR