BEGIN:VCALENDAR
VERSION:2.0
PRODID:-//Borovany//NONSGML v1.0//CS
BEGIN:VEVENT
DTSTART:20260517T150000
DTEND:20260517T150000
SUMMARY:Komentovaná prohlídka s Tomášem Hunčovským
DESCRIPTION:Pořadatel: město Borovany
LOCATION:Kostel Navštívení Panny Marie
END:VEVENT
END:VCALENDAR