BEGIN:VCALENDAR
VERSION:2.0
PRODID:-//Borovany//NONSGML v1.0//CS
BEGIN:VEVENT
DTSTART:20260531T100000
DTEND:20260531T100000
SUMMARY:Poslední loupežník
DESCRIPTION:Pořadatel: město Borovany
LOCATION:Kinosál Kláštera Borovany
END:VEVENT
END:VCALENDAR